BEGIN:VCALENDAR
VERSION:2.0
PRODID:-//Plone.org//NONSGML plone.app.event//EN
X-WR-TIMEZONE:Europe/Madrid
BEGIN:VEVENT
SUMMARY:Abstract Sumbission
DTSTART;TZID=Europe/Madrid:20170127T235000
DTEND;TZID=Europe/Madrid:20170127T235500
DTSTAMP:20260426T000003Z
UID:bfc5ec40e26c44c4b2a8c80d4a6ecfe1@genwebv4.upc.edu
CREATED:20161121T142700Z
DESCRIPTION:This is the Deadline for abstract submission.
LAST-MODIFIED:20161121T142705Z
URL:https://icws.upc.edu/en/events/abstract-sumbission
END:VEVENT
BEGIN:VEVENT
SUMMARY:Abstract Acceptance
DTSTART;TZID=Europe/Madrid:20170227T150000
DTEND;TZID=Europe/Madrid:20170227T160000
DTSTAMP:20260426T000003Z
UID:48557b2496264d9993647f6d1f782ee1@genwebv4.upc.edu
CREATED:20161121T142907Z
DESCRIPTION:Response from the Scientific Committee
LAST-MODIFIED:20161121T142912Z
URL:https://icws.upc.edu/en/events/abstract-acceptance
END:VEVENT
BEGIN:VEVENT
SUMMARY:Full manuscript submission
DTSTART;TZID=Europe/Madrid:20170428T230000
DTEND;TZID=Europe/Madrid:20170428T231500
DTSTAMP:20260426T000003Z
UID:9d2900ba5b2e4b0195e8979b0b1a794e@genwebv4.upc.edu
CREATED:20161121T143133Z
DESCRIPTION:Deadline for manuscript sumissions
LAST-MODIFIED:20161121T143138Z
URL:https://icws.upc.edu/en/events/full-manuscript-submission
END:VEVENT
BEGIN:VEVENT
SUMMARY:Congress dates
DTSTART;TZID=Europe/Madrid:20170626T100000
DTEND;TZID=Europe/Madrid:20170627T190000
DTSTAMP:20260426T000003Z
UID:9ff19e95b1644f6aa91cc72dbdd58e7c@genwebv4.upc.edu
CREATED:20161121T143303Z
DESCRIPTION:The congress will be going on durin these dates
LAST-MODIFIED:20161121T143308Z
URL:https://icws.upc.edu/en/events/congress-dates
END:VEVENT
BEGIN:VEVENT
SUMMARY:Deadline for manuscript selection on Journal
DTSTART;VALUE=DATE:20170519
DTEND;VALUE=DATE:20170520
DTSTAMP:20260426T000003Z
UID:9ca1f8c0173d4614914bff03839d89a7@www.icws.upc.edu
CREATED:20170503T121954Z
DESCRIPTION:If authors want their manuscript to opt for a journal publicat
 ion\, this is the deadline for registration to the Congress
LAST-MODIFIED:20170503T122604Z
URL:https://icws.upc.edu/en/events/deadline-for-manuscript-selection-on-jo
 urnal
END:VEVENT
BEGIN:VEVENT
SUMMARY:Full manuscript Submission
DTSTART;VALUE=DATE:20170512
DTEND;VALUE=DATE:20170513
DTSTAMP:20260426T000003Z
UID:1d509093cecd49a4a320b9e72f4d02a5@www.icws.upc.edu
CREATED:20170503T122113Z
DESCRIPTION:The final submission deadline was postponed until may 12
LAST-MODIFIED:20170503T122547Z
URL:https://icws.upc.edu/en/events/full-manuscript-submission-1
END:VEVENT
BEGIN:VTIMEZONE
TZID:Europe/Madrid
X-LIC-LOCATION:Europe/Madrid
BEGIN:STANDARD
DTSTART:20161030T020000
TZNAME:CET
TZOFFSETFROM:+0200
TZOFFSETTO:+0100
END:STANDARD
BEGIN:DAYLIGHT
DTSTART:20170326T030000
TZNAME:CEST
TZOFFSETFROM:+0100
TZOFFSETTO:+0200
END:DAYLIGHT
END:VTIMEZONE
END:VCALENDAR
